BEGIN:VCALENDAR
VERSION:2.0
PRODID:-//Plone.org//NONSGML plone.app.event//EN
X-WR-TIMEZONE:Europe/Vienna
BEGIN:VEVENT
SUMMARY:Surchabisabend
DTSTART;TZID=Europe/Vienna;VALUE=DATE-TIME:20241104T183000
DTSTAMP;VALUE=DATE-TIME:20260422T081051Z
UID:31cd646ee18641cdb7eb7f4c165ad2bf@127.0.0.1:10250
CREATED;VALUE=DATE-TIME:20230924T152929Z
DESCRIPTION:Apéro ab 18:30 Uhr\,\nBeginn um 19:00 Uhr
LAST-MODIFIED;VALUE=DATE-TIME:20231010T155509Z
LOCATION:Burgerstube\, Kramgasse 14\, 3011 Bern
URL:https://www.burgergesellschaft.ch/anlaesse/termin/surchabisabend-24
END:VEVENT
BEGIN:VTIMEZONE
TZID:Europe/Vienna
X-LIC-LOCATION:Europe/Vienna
BEGIN:STANDARD
DTSTART;VALUE=DATE-TIME:20241027T020000
TZNAME:CET
TZOFFSETFROM:+0200
TZOFFSETTO:+0100
END:STANDARD
END:VTIMEZONE
END:VCALENDAR
