BEGIN:VCALENDAR
VERSION:2.0
PRODID:-//Plone.org//NONSGML plone.app.event//EN
X-WR-TIMEZONE:Europe/Vienna
BEGIN:VEVENT
SUMMARY:Seniorenausflug
DTSTART;VALUE=DATE:20260611
DTEND;VALUE=DATE:20260612
DTSTAMP;VALUE=DATE-TIME:20260423T155246Z
UID:a1671e6b85844ef9b179bfd58e33a0f9@127.0.0.1:10550
CREATED;VALUE=DATE-TIME:20260122T075221Z
LAST-MODIFIED;VALUE=DATE-TIME:20260122T075225Z
URL:https://www.burgergesellschaft.ch/anlaesse/termin/seniorenausflug-1
END:VEVENT
END:VCALENDAR
