BEGIN:VCALENDAR
VERSION:2.0
PRODID:-//Plone.org//NONSGML plone.app.event//EN
X-WR-TIMEZONE:Europe/Vienna
BEGIN:VEVENT
SUMMARY:Damenanlass
DTSTART;TZID=Europe/Vienna;VALUE=DATE-TIME:20260914T171500
DTSTAMP;VALUE=DATE-TIME:20260422T232734Z
UID:9662d41d1c56412a9b75674622b48214@127.0.0.1:10550
CREATED;VALUE=DATE-TIME:20240703T163046Z
DESCRIPTION:Führung in der Burgerbibliothek Bern
LAST-MODIFIED;VALUE=DATE-TIME:20260422T182304Z
LOCATION:Burgerbibliothek Bern\, Münstergasse 63\, 3011 Bern
URL:https://www.burgergesellschaft.ch/anlaesse/termin/damenanlass-2
END:VEVENT
BEGIN:VTIMEZONE
TZID:Europe/Vienna
X-LIC-LOCATION:Europe/Vienna
BEGIN:DAYLIGHT
DTSTART;VALUE=DATE-TIME:20260329T030000
TZNAME:CEST
TZOFFSETFROM:+0100
TZOFFSETTO:+0200
END:DAYLIGHT
END:VTIMEZONE
END:VCALENDAR
